Workbook
Name _edn1: Transactions!#REF!
Name _edn10: Transactions!#REF!
Name _edn11: Transactions!#REF!
Name _edn12: Transactions!#REF!
Name _edn13: Transactions!#REF!
Name _edn14: Transactions!#REF!
Name _edn15: Transactions!#REF!
Name _edn2: Transactions!#REF!
Name _edn3: Transactions!#REF!
Name _edn4: Transactions!#REF!
Name _edn5: Transactions!#REF!
Name _edn6: Transactions!#REF!
Name _edn7: Transactions!#REF!
Name _edn8: Transactions!#REF!
Name _edn9: Transactions!#REF!

Sheet Transactions
A1: Document List
A2: Document | B2: Type | C2: For | D2: Amount
A3: 1 | B3: Deposit slip | C3: Investment | D3: 40000
A4: 2 | B4: Lease | C4: Rent | D4: 800 | E4: per month
A5: 3 | B5: Cheque | C5: Rent | D5: 3600
A6: 4 | B6: Cheque | C6: Computer Equipment | D6: 3600
A7: 5 | B7: Cheque | C7: Sign deposit | D7: 1000
A8: 6 | B8: Cheque | C8: Sign installation | D8: 1000
A9: 7 | B9: Cheque | C9: Advertising | D9: 600
A10: 8 | B10: Cheque | C10: Software development | D10: 1500
A11: 9 | B11: Cheque | C11: Cash register | D11: 500
A12: 10 | B12: Cheque | C12: Coffee & Postage | D12: 200
A13: 11 | B13: Purchase receipt | C13: Ski equipment | D13: 50000
A14: 12 | B14: Note payable | C14: for equipment in 21 | D14: 45000
A15: 13 | B15: Sales receipt | C15: 30 for group lessons | D15: =30*50 -> 1500
A16: 14 | B16: Sales receipt | C16: 6 for group lessons | D16: =6*80 -> 480
A17: 15 | B17: Sales receipt | C17: 2 for private lessons | D17: =2*150 -> 300
A18: 16 | B18: Sales receipts | C18: Coaching | D18: 200
A19: 17 | B19: Cheque | C19: Office Supplies | D19: 500
A20: 18 | B20: Sales report | C20: Lessons | D20: 3600
A21: 19 | B21: Cheque | C21: Cash delivery charges | D21: 160
A22: 20 | B22: Bill | C22: Utilities | D22: 325
A23: 21 | B23: Cash receipts | C23: Lessons for October | D23: 10000
A24: 22 | B24: Memo | C24: Staff hiring | D24: 0
A25: 23 | B25: Cash withdrawal | C25: Amandan withdraws $2,000 for personal use | D25: 2000

Sheet Add Info
A1: On September 30th, a count of the office supplies revealed that there were $150 worth of office supplies on hand.
A2: Since October 1st is the beginning of the new fiscal year for Singh Ski School, all necessary adjusting entries need to be completed, on September 30th.

Sheet Analyze
A1: Document | B1: Date | C1: Description | D1: Economic Transaction? | E1: Accounts Affected | F1: Increase/Decrease | G1: Debit/Credit | H1: Amount$
A2: =Transactions!A3 -> 1 | B2: 42979 | C2: Capital | D2: Yes | E2: Capital | F2: Increase | G2: Credit | H2: 40000
E3: Bank account | F3: Increase | G3: Debit | H3: 40000
A4: =Transactions!A4 -> 2 | B4: 42979 | C4: Rent lease agreement | D4: No
A5: =Transactions!A5 -> 3 | B5: 42979 | C5: Rent lease payment | D5: Yes | E5: Rent Account | F5: Increase | G5: Debit | H5: 9600
E6: Bank account | F6: Decrease | G6: Credit | H6: 9600
A7: =Transactions!A6 -> 4 | B7: 42979 | C7: Computer equipment | D7: Yes | E7: Computer Equipment account | F7: Increase | G7: Debit | H7: 3600
E8: Bank account | F8: Decrease | G8: Credit | H8: 3600
A9: =Transactions!A7 -> 5 | B9: 42979 | C9: New Sign intallation | D9: yes | E9: Sign Expense account | F9: Increased | G9: Debit | H9: 2000
E10: Bank account | F10: Decreased | G10: Credit | H10: 1000
E11: Sign expense payable | F11: Increased | G11: Credit | H11: 1000
A12: =Transactions!A8 -> 6 | B12: 42979 | C12: Newspaper advertisement | D12: Yes | E12: Advertisement account | F12: Increase | G12: Debit | H12: 600
E13: Bank account | F13: Decrease | G13: Credit | H13: 600
A14: =Transactions!A9 -> 7 | B14: 42979 | C14: Software Development | D14: Yes | E14: Software Account | F14: Increase | G14: Debit | H14: 1500
E15: Bank account | F15: Decrease | G15: Credit | H15: 1500
A16: =Transactions!A10 -> 8 | B16: 42979 | C16: Cash register | D16: Yes | E16: Cash register expense | F16: Increase | G16: Debit | H16: 500
E17: Bank account | F17: Decrease | G17: Credit | H17: 500
A18: =Transactions!A11 -> 9 | B18: 42979 | C18: Coffee supplies | D18: Yes | E18: Coffee expenses | F18: Increase | G18: Debit | H18: 160
E19: Bank account | F19: Decrease | G19: Credit | H19: 160
A20: =Transactions!A12 -> 10 | B20: 42979 | C20: Postage | D20: Yes | E20: Postage | F20: Increase | G20: Debit | H20: 40
E21: Bank account | F21: Decrease | G21: Credit | H21: 40
A22: 11 | B22: 42979 | C22: Skies equipment | D22: No
A23: =Transactions!A14 -> 12 | B23: 42979 | C23: Purchase of skie Equipment | D23: Yes | E23: Skies Equipment | F23: Increase | G23: Debit | H23: 50000
E24: Bank account | F24: Decrease | G24: Credit | H24: 5000
E25: Note payable | F25: Increase | G25: Credit | H25: 45000
A26: =Transactions!A15 -> 13 | B26: 42993 | C26: Group of 30 ski | D26: Yes | E26: Bank account | F26: Increase | G26: Debit | H26: 1500
E27: Sales | F27: Increase | G27: Credit | H27: 1500
A28: =Transactions!A16 -> 14 | B28: 43001 | C28: Group of 4 ski | D28: Yes | E28: Bank account | F28: Increase | G28: Debit | H28: 480
E29: Sales | F29: Increase | G29: Credit | H29: 480
A30: =Transactions!A17 -> 15 | B30: 43002 | C30: Private clients | D30: Yes | E30: Bank account | F30: Increase | G30: Debit | H30: 300
E31: Sales | F31: Increase | G31: Credit | H31: 300
A32: =Transactions!A18 -> 16 | B32: 43002 | C32: Coaching fees | D32: Yes | E32: Bank account | F32: Increase | G32: Debit | H32: 200
E33: Sales | F33: Increase | G33: Credit | H33: 200
A34: =Transactions!A19 -> 17 | B34: 43002 | C34: Office supplies | D34: Yes | E34: Office expense | F34: Increase | G34: Debit | H34: 500
E35: Bank account | F35: Decrease | G35: Credit | H35: 500
A36: =Transactions!A20 -> 18 | B36: 31 sep 2017 | C36: Lesson sales | D36: Yes | E36: Sales private | F36: Increase | G36: Credit | H36: 1500
E37: Sales Group | F37: Increase | G37: Credit | H37: 2100
E38: Bank account | F38: Increase | G38: Debit | H38: 3600
A39: =Transactions!A21 -> 19 | B39: 31 sep 2017 | C39: Delivery charges | D39: Yes | E39: Cariage inwards | F39: Increase | G39: Debit | H39: 160
E40: Bank account | F40: Decrease | G40: Credit | H40: 160
...

Sheet Journalize
A1: Singh Ski School
A2: General Journal
A3: August & September 2017
A5: Date | B5: Particulars | C5: Folio | D5: Debit | E5: Credit
A6: 42979 | B6: Bank account | D6: 40000
B7: Capital account | E7: 40000
B8: To record amount introduced in the business account.
A10: 42979 | B10: Rent Account | D10: 9600
B11: Bank account | E11: 9600
B12: To record amount paid for rent
A14: 42979 | B14: Computer Equipment account | D14: 3600
B15: Bank account | E15: 3600
B16: To record computer equipment purchased
A18: 42979 | B18: Sign Expense account | D18: 2000
B19: Bank account | E19: 1000
B20: Sign expense payable | E20: 1000
B21: To record sign expense paid partialy
A23: 42979 | B23: Advertisement account | D23: 600
B24: Bank account | E24: 600
B25: To record advertisement expense
A27: 42979 | B27: Software Account | D27: 1500
B28: Bank account | E28: 1500
B29: To record Software asset purchased
A31: 42979 | B31: Cash register expense | D31: 500
B32: Bank account | E32: 500
B33: To record Cash register asset purchase
A35: 42979 | B35: Coffee expenses | D35: 160
B36: Postage | D36: 40
B37: Bank account | E37: 200
B38: Being record of coffee and postage expense
A40: 42979 | B40: Skies Equipment | D40: 50000
B41: Bank account | E41: 5000
B42: Note payable | E42: 45000
B43: To record partialy paid ski equipment
A45: =Analyze!B26 -> 42993 | B45: Bank account | D45: 1500
B46: Sales | E46: 1500
B47: To record sales
A49: =Analyze!B28 -> 43001 | B49: Bank account | D49: 480
B50: Sales | E50: 480
B51: To record sales
...

Sheet Post GL students
A1: Singh Ski School
A2: General Ledger
A3: August & September 2017
A5: Cash
A6: Date | B6: Particulars | C6: Debit | D6: Credit | E6: Balance
A7: 42979 | B7: Capital | C7: 40000 | E7: =C7 -> 40000
A8: 42979 | B8: Rent account | D8: 9600 | E8: =E7+C8-D8 -> 30400
A9: 42979 | B9: Computer equipment | D9: 3600 | E9: =E8+C9-D9 -> 26800
A10: 42979 | B10: Sign expense | D10: 1000 | E10: =E9+C10-D10 -> 25800
A11: 42979 | B11: Advertisement expense | D11: 600 | E11: =E10+C11-D11 -> 25200
A12: 42979 | B12: Soft ware account | D12: 1500 | E12: =E11+C12-D12 -> 23700
A13: 42979 | B13: Cash register | D13: 500 | E13: =E12+C13-D13 -> 23200
A14: 42979 | B14: Coffee and postage | D14: 200 | E14: =E13+C14-D14 -> 23000
A15: 42979 | B15: Skies Equipment | D15: 5000 | E15: =E14+C15-D15 -> 18000
A16: 44089 | B16: Sales | C16: 1500 | E16: =E15+C16-D16 -> 19500
A17: 44097 | B17: Sales | C17: 480 | E17: =E16+C17-D17 -> 19980
A18: 44098 | B18: Sales | C18: 300 | E18: =E17+C18-D18 -> 20280
A19: 44098 | B19: Sales | C19: 200 | E19: =E18+C19-D19 -> 20480
A20: 44098 | B20: Office expenses | D20: 500 | E20: =E19+C20-D20 -> 19980
A21: 44104 | B21: Sales | C21: 3600 | E21: =E20+C21-D21 -> 23580
A22: 44104 | B22: Carriage inwards | D22: 160 | E22: =E21+C22-D22 -> 23420
A23: 44104 | B23: Sales in advance | C23: 10000 | E23: =E22+C23-D23 -> 33420
A24: 44104 | B24: Drawings | D24: 2000 | E24: =E23+C24-D24 -> 31420
B27: Sales account
A28: Date | B28: Particulars | C28: Debit | D28: Credit | E28: Balance
A29: 44089 | B29: Bank account | D29: 1500 | E29: =D29 -> 1500
A30: 44097 | B30: Bank account | D30: 480 | E30: =E29-C30+D30 -> 1980
A31: 44098 | B31: Bank account | D31: 300 | E31: =E30-C31+D31 -> 2280
A32: 44098 | B32: Bank account | D32: 200 | E32: =E31-C32+D32 -> 2480
B33: Bank account | D33: 3600 | E33: =E32-C33+D33 -> 6080
B36: Capital
A37: Date | B37: Particulars | C37: Debit | D37: Credit | E37: Balance
A38: 42979 | B38: Bank account | D38: 40000 | E38: =D38 -> 40000
B44: Rent account
A45: Date | B45: Particulars | C45: Debit | D45: Credit | E45: Balance
A46: 42979 | B46: Bank account | C46: 9600 | E46: =C46 -> 9600
B51: Computer Equipment
A52: Date | B52: Particulars | C52: Debit | D52: Credit | E52: Balance
A53: 42979 | B53: Bank | C53: 3600 | E53: =C53 -> 3600
E54: =E53 -> 3600
...

Sheet Summarize in TB
A1: Singh Ski School
A2: Trial Balance
A3: As at September 30th, 2017
A4: Item | B4: Dr | C4: Cr
A5: Cash | B5: 31420
A6: Sales | C6: 6080
A7: Capital | C7: 40000
A8: Rent | B8: 9600
A9: Computer Equipment | B9: 3600
A10: Sign Expense | B10: 2000
A11: Sign expense payable | C11: 1000
A12: Advertisement | B12: 600
A13: Software account | B13: 1500
A14: Cash register | B14: 500
A15: Coffee | B15: 160
A16: Postage | B16: 40
A17: Skies Equipment | B17: 50000
A18: Notes Payable | C18: 45000
A19: Office equipment | B19: 500
A20: Carriage inwards | B20: 160
A21: Utilities expense | B21: 325
A22: Utilities Expense payable | C22: 325
A23: Unearned Revenue | C23: 10000
A24: Drawings | B24: 2000
A25: Total | B25: =SUM(B5:B24) -> 102405 | C25: =SUM(C5:C24) -> 102405

Sheet Worksheet
A1: Singh Ski School
A2: Worksheet
A3: As at September 30th, 2017
B4: Trial Balance | E4: Adjustments | G4: Adjusted Trial Balance | I4: Income Statement | K4: Balance Sheet
B5: Debit | C5: Credit | E5: Debit | F5: Credit | G5: Debit | H5: Credit | I5: Debit | J5: Credit | K5: Debit | L5: Credit
A6: Cash | B6: 31420 | G6: =B6+E6-F6 -> 31420 | K6: =G6 -> 31420
A7: Sales | C7: 6080 | H7: =C7 -> 6080 | J7: =H7 -> 6080
A8: Capital | C8: 40000 | H8: =C8 -> 40000 | L8: =H8 -> 40000
A9: Rent | B9: 9600 | F9: 8800 | G9: =B9+E9-F9 -> 800 | I9: =G9 -> 800
A10: Computer Equipment | B10: 3600 | G10: =B10+E10-F10 -> 3600 | K10: =G10 -> 3600
A11: Sign Expense | B11: 2000 | G11: =B11+E11-F11 -> 2000 | I11: =G11 -> 2000
A12: Sign expense payable | C12: 1000 | H12: =C12 -> 1000 | L12: =H12 -> 1000
A13: Advertisement | B13: 600 | G13: =B13+E13-F13 -> 600 | I13: =G13 -> 600
A14: Software account | B14: 1500 | G14: =B14+E14-F14 -> 1500 | K14: =G14 -> 1500
A15: Cash register | B15: 500 | G15: =B15+E15-F15 -> 500 | K15: =G15 -> 500
A16: Coffee | B16: 160 | G16: =B16+E16-F16 -> 160 | I16: =G16 -> 160
A17: Postage | B17: 40 | G17: =B17+E17-F17 -> 40 | I17: =G17 -> 40
A18: Skies Equipment | B18: 50000 | G18: =B18+E18-F18 -> 50000 | K18: =G18 -> 50000
A19: Notes Payable | C19: 45000 | H19: =C19 -> 45000 | L19: =H19 -> 45000
A20: Office supplies | B20: 500 | F20: 150 | G20: =B20+E20-F20 -> 350 | I20: =G20 -> 350
A21: Carriage inwards | B21: 160 | G21: =B21+E21-F21 -> 160 | I21: =G21 -> 160
A22: Utilities expense | B22: 325 | G22: =B22+E22-F22 -> 325 | I22: =G22 -> 325
A23: Utilities Expense payable | C23: 325 | H23: =C23 -> 325 | L23: =H23 -> 325
A24: Unearned Revenue | C24: 10000 | H24: =C24 -> 10000 | L24: =H24 -> 10000
A25: Drawings | B25: 2000 | G25: =B25+E25-F25 -> 2000 | K25: =G25 -> 2000
A26: Office Inventory | E26: 150 | G26: =B26+E26-F26 -> 150 | K26: =G26 -> 150
A27: Rent in Advance | E27: 8800 | G27: =B27+E27-F27 -> 8800 | K27: =G27 -> 8800
A28: Depreciation | E28: 1497 | G28: 1497 | I28: 1497
A29: Accumulated depreciation | F29: 1497 | H29: 1497 | L29: 1497
B30: =SUM(B6:B29) -> 102405 | C30: =SUM(C6:C29) -> 102405 | D30: =SUM(D6:D29) -> 0 | E30: =SUM(E6:E29) -> 10447 | F30: =SUM(F6:F29) -> 10447 | G30: =SUM(G6:G29) -> 103902 | H30: =SUM(H6:H29) -> 103902 | I30: =SUM(I6:I29) -> 5932 | ... L30: =SUM(L6:L29) -> 97822
I31: Profit | J31: =J30-I30 -> 148

Sheet Adjust
A1: Singh Ski School
A2: General Journal
A3: August & September 2017
A5: Date | B5: Particulars | C5: Folio | D5: Debit | E5: Credit
B6: Rent | E6: 8800
B7: Office supplies | E7: 150
B8: Office Inventory | D8: 150
B9: Depreciation | D9: 1497
B10: Accumulated Depreciation | E10: 1497
B11: Rent in Advance | D11: 8800
B12: Total | D12: =SUM(D6:D11) -> 10447 | E12: =SUM(E6:E11) -> 10447

Sheet Adj TB
A1: Singh Ski School
A2: Trial Balance
A3: As at September 30th, 2017
A4: Particulars | B4: Debit | C4: Credit
A5: =Worksheet!A6 -> Cash | B5: =Worksheet!G6 -> 31420
A6: =Worksheet!A7 -> Sales | C6: =Worksheet!H7 -> 6080
A7: =Worksheet!A8 -> Capital | C7: =Worksheet!H8 -> 40000
A8: =Worksheet!A9 -> Rent | B8: =Worksheet!G9 -> 800
A9: =Worksheet!A10 -> Computer Equipment | B9: =Worksheet!G10 -> 3600
A10: =Worksheet!A11 -> Sign Expense | B10: =Worksheet!G11 -> 2000
A11: =Worksheet!A12 -> Sign expense payable | C11: =Worksheet!H12 -> 1000
A12: =Worksheet!A13 -> Advertisement | B12: =Worksheet!G13 -> 600
A13: =Worksheet!A14 -> Software account | B13: =Worksheet!G14 -> 1500
A14: =Worksheet!A15 -> Cash register | B14: =Worksheet!G15 -> 500
A15: =Worksheet!A16 -> Coffee | B15: =Worksheet!G16 -> 160
A16: =Worksheet!A17 -> Postage | B16: =Worksheet!G17 -> 40
A17: =Worksheet!A18 -> Skies Equipment | B17: =Worksheet!G18 -> 50000
A18: =Worksheet!A19 -> Notes Payable | C18: =Worksheet!H19 -> 45000
A19: =Worksheet!A20 -> Office supplies | B19: =Worksheet!G20 -> 350
A20: =Worksheet!A21 -> Carriage inwards | B20: =Worksheet!G21 -> 160
A21: =Worksheet!A22 -> Utilities expense | B21: =Worksheet!G22 -> 325
A22: =Worksheet!A23 -> Utilities Expense payable | C22: =Worksheet!H23 -> 325
A23: =Worksheet!A24 -> Unearned Revenue | C23: =Worksheet!H24 -> 10000
A24: =Worksheet!A25 -> Drawings | B24: =Worksheet!G25 -> 2000
A25: =Worksheet!A26 -> Office Inventory | B25: =Worksheet!G26 -> 150
A26: =Worksheet!A27 -> Rent in Advance | B26: =Worksheet!G27 -> 8800
A27: Depreciation | B27: 1497
A28: Accumulated depreciation | C28: 1497
B30: =SUM(B5:B29) -> 103902 | C30: =SUM(C5:C29) -> 103902
C32: =C30-B30 -> 0

Sheet Report
A1: Singh Ski School
A2: Income Statement
A3: For the month ended September 30th, 2017
A5: Revenues
B6: Sakles | C6: 6080
D9: =C6 -> 6080
A11: Expenses
B12: Rent | C12: 800
B13: Sign Expense | C13: 2000
B14: Advertisement | C14: 600
B15: Coffee | C15: 160
B16: Postage | C16: 40
B17: Office supplies | C17: 350
B18: Depreciation | C18: 1497
B19: Carriage inwards | C19: 160
B20: Utilities expense | C20: 325
D23: =SUM(C12:C20) -> 5932
A24: Net Income | D24: =D9-D23 -> 148
A26: Singh Ski School
A27: Statement of Changes in Owners Equity
A28: For the month ended September 30th, 2017
B29: Capital | E29: 40000
B30: Add: Net Income | E30: =D24 -> 148
B31: Less Drawings | E31: 2000
E33: =E29+E30-E31 -> 38148
A39: Singh Ski School
A40: Balance Sheet
A41: September 30th, 2017
A43: Assets
B44: Computer Equipment | C44: 3600
B45: Skies Equipment | C45: 50000
B46: Software account | C46: 1500
B47: Cash register | C47: 500
B48: Accumulated depreciation | C48: -1497
C49: =SUM(C44:C48) -> 54103
B50: Cash | C50: 31420
B51: Office Inventory | C51: 150
B52: Rent in Advance | C52: 8800
A57: Total Assets | C57: =SUM(C50:C56) -> 40370 | E57: =C49+C57 -> 94473
A59: Liabilities
...

Sheet Close
A1: Singh Ski School
A2: General Journal
A3: August & September 2017
A5: Date | B5: Particulars | C5: Debit | D5: Credit
B6: Sales | C6: 6080
B7: Income summary | D7: 6080
B8: To record closing of revenues
B9: Income summary | C9: 5932
B10: Rent | D10: 800
B11: Sign Expense | D11: 2000
B12: Advertisement | D12: 600
B13: Coffee | D13: 160
B14: Postage | D14: 40
B15: Depreciation | D15: 1497
B16: Office supplies | D16: 350
B17: Carriage inwards | D17: 160
B18: Utilities expense | D18: 325
B19: To record closing of expenses
B20: Total | C20: =SUM(C6:C19) -> 12012 | D20: =SUM(D6:D19) -> 12012

Sheet Post Clse TB
A1: Singh Ski School
A2: Trial Balance
A3: As at September 30th, 2017
A4: Cash | B4: 31420
A5: Capital | C5: 40000
A6: Computer Equipment | B6: 3600
A7: Sign expense payable | C7: 1000
A8: Software account | B8: 1500
A9: Accumulated depreciation | C9: 1497
A10: Cash register | B10: 500
A11: Skies Equipment | B11: 50000
A12: Notes Payable | C12: 45000
A13: Utilities Expense payable | C13: 325
A14: Unearned Revenue | C14: 10000
A15: Drawings | B15: 2000
A16: Office Inventory | B16: 150
A17: Rent in Advance | B17: 8800
A18: Income summary | B18: 5932
A19: Income summary | C19: 6080
B21: =SUM(B4:B20) -> 103902 | C21: =SUM(C4:C20) -> 103902
